BEGIN:VCALENDAR
VERSION:2.0
PRODID:-//Município de Mêda - ECPv6.15.20//NONSGML v1.0//EN
CALSCALE:GREGORIAN
METHOD:PUBLISH
X-ORIGINAL-URL:https://www.cm-meda.pt
X-WR-CALDESC:Eventos para Município de Mêda
REFRESH-INTERVAL;VALUE=DURATION:PT1H
X-Robots-Tag:noindex
X-PUBLISHED-TTL:PT1H
BEGIN:VTIMEZONE
TZID:Europe/Lisbon
BEGIN:DAYLIGHT
TZOFFSETFROM:+0000
TZOFFSETTO:+0100
TZNAME:WEST
DTSTART:20240331T010000
END:DAYLIGHT
BEGIN:STANDARD
TZOFFSETFROM:+0100
TZOFFSETTO:+0000
TZNAME:WET
DTSTART:20241027T010000
END:STANDARD
BEGIN:DAYLIGHT
TZOFFSETFROM:+0000
TZOFFSETTO:+0100
TZNAME:WEST
DTSTART:20250330T010000
END:DAYLIGHT
BEGIN:STANDARD
TZOFFSETFROM:+0100
TZOFFSETTO:+0000
TZNAME:WET
DTSTART:20251026T010000
END:STANDARD
BEGIN:DAYLIGHT
TZOFFSETFROM:+0000
TZOFFSETTO:+0100
TZNAME:WEST
DTSTART:20260329T010000
END:DAYLIGHT
BEGIN:STANDARD
TZOFFSETFROM:+0100
TZOFFSETTO:+0000
TZNAME:WET
DTSTART:20261025T010000
END:STANDARD
END:VTIMEZONE
BEGIN:VEVENT
DTSTART;VALUE=DATE:20251003
DTEND;VALUE=DATE:20251004
DTSTAMP:20260421T192026
CREATED:20250930T102210Z
LAST-MODIFIED:20250930T102210Z
UID:62746-1759449600-1759535999@www.cm-meda.pt
SUMMARY:Pátio da Saudade - M/12
DESCRIPTION:Género:  Comédia \nPaís: Portugal \nRealizador: Leonel Vieira \nAtores: Sara Matos\, José Pedro Vasconcelos\, Ana Guiomar\, Manuel Marques\, José Raposo. \nAno: 2025 \nDuração: 95 min \nSinopse: Vanessa (Sara Matos) recebe a notícia da morte de uma tia afastada\, que lhe deixou em testamento um velho teatro dos tempos de glória da Revista à Portuguesa. Tozé Leal (José Pedro Vasconcelos)\, o seu agente\, tenta convencê-la a vender o edifício em ruínas\, mas Vanessa sente o apelo dos tempos áureos do velho teatro e convence os seus amigos\, Joana (Ana Guiomar) e Ribeiro (Manuel Marques)\, a montarem um espetáculo para recuperar a antiga glória do teatro. Mas o sonho não será fácil de concretizar: Armando (José Raposo)\, proprietário de um teatro vizinho\, fará tudo para impedir Vanessa. \n.
URL:https://www.cm-meda.pt/evento/patio-da-saudade/
LOCATION:Casa Municipal da Cultura\, Av Cidade Nova\, Mêda\, 6430-102\, Portugal
CATEGORIES:Cinema
ATTACH;FMTTYPE=image/jpeg:https://www.cm-meda.pt/wp-content/uploads/2025/09/cinema-outubro-redes-1-scaled.jpg
END:VEVENT
BEGIN:VEVENT
DTSTART;VALUE=DATE:20251019
DTEND;VALUE=DATE:20251020
DTSTAMP:20260421T192026
CREATED:20251008T142355Z
LAST-MODIFIED:20251008T142355Z
UID:62843-1760832000-1760918399@www.cm-meda.pt
SUMMARY:A Casa das Bonecas da Gaby - M/3
DESCRIPTION:Género:  Animação \nAno: 2025 \nDuração: 98 min \nSinopse: Gabby e sua avó Gigi viajam pela estrada\, mas a valiosa casa de bonecas de Gabby acaba nas mãos da excêntrica gata Vera. Gabby reúne os Gabby Cats em uma missão para recuperar seu precioso tesouro\, antes que seja tarde demais. \n.
URL:https://www.cm-meda.pt/evento/acasadasbonecasdagaby/
LOCATION:Casa Municipal da Cultura\, Av Cidade Nova\, Mêda\, 6430-102\, Portugal
CATEGORIES:Cinema
ATTACH;FMTTYPE=image/jpeg:https://www.cm-meda.pt/wp-content/uploads/2025/10/cinema-outubro-redes-2-scaled.jpg
END:VEVENT
BEGIN:VEVENT
DTSTART;VALUE=DATE:20251031
DTEND;VALUE=DATE:20251101
DTSTAMP:20260421T192026
CREATED:20251008T142801Z
LAST-MODIFIED:20251008T142801Z
UID:62847-1761868800-1761955199@www.cm-meda.pt
SUMMARY:Batalha atrás de Batalha - M/16
DESCRIPTION:Género:  Ação \nAtores: Leonardo DiCaprio; Sean Penn\, Benicio Del Toro\, Regina All \nAno: 2025 \nDuração: 98 min \nSinopse: Quando o seu antigo inimigo ressurge após dezasseis anos\, um grupo de ex-revolucionários reúne-se para resgatar a filha de um dos seus. \n.
URL:https://www.cm-meda.pt/evento/batalha-atras-de-batalha/
LOCATION:Casa Municipal da Cultura\, Av Cidade Nova\, Mêda\, 6430-102\, Portugal
CATEGORIES:Cinema
ATTACH;FMTTYPE=image/jpeg:https://www.cm-meda.pt/wp-content/uploads/2025/10/cinema-outubro-redes-3-scaled.jpg
END:VEVENT
END:VCALENDAR