BEGIN:VCALENDAR
VERSION:2.0
PRODID:-//Município de Mêda - ECPv6.15.20//NONSGML v1.0//EN
CALSCALE:GREGORIAN
METHOD:PUBLISH
X-ORIGINAL-URL:https://www.cm-meda.pt
X-WR-CALDESC:Eventos para Município de Mêda
REFRESH-INTERVAL;VALUE=DURATION:PT1H
X-Robots-Tag:noindex
X-PUBLISHED-TTL:PT1H
BEGIN:VTIMEZONE
TZID:Europe/Lisbon
BEGIN:DAYLIGHT
TZOFFSETFROM:+0000
TZOFFSETTO:+0100
TZNAME:WEST
DTSTART:20230326T010000
END:DAYLIGHT
BEGIN:STANDARD
TZOFFSETFROM:+0100
TZOFFSETTO:+0000
TZNAME:WET
DTSTART:20231029T010000
END:STANDARD
BEGIN:DAYLIGHT
TZOFFSETFROM:+0000
TZOFFSETTO:+0100
TZNAME:WEST
DTSTART:20240331T010000
END:DAYLIGHT
BEGIN:STANDARD
TZOFFSETFROM:+0100
TZOFFSETTO:+0000
TZNAME:WET
DTSTART:20241027T010000
END:STANDARD
BEGIN:DAYLIGHT
TZOFFSETFROM:+0000
TZOFFSETTO:+0100
TZNAME:WEST
DTSTART:20250330T010000
END:DAYLIGHT
BEGIN:STANDARD
TZOFFSETFROM:+0100
TZOFFSETTO:+0000
TZNAME:WET
DTSTART:20251026T010000
END:STANDARD
BEGIN:DAYLIGHT
TZOFFSETFROM:+0000
TZOFFSETTO:+0100
TZNAME:WEST
DTSTART:20260329T010000
END:DAYLIGHT
BEGIN:STANDARD
TZOFFSETFROM:+0100
TZOFFSETTO:+0000
TZNAME:WET
DTSTART:20261025T010000
END:STANDARD
END:VTIMEZONE
BEGIN:VEVENT
DTSTART;VALUE=DATE:20240910
DTEND;VALUE=DATE:20250609
DTSTAMP:20260421T113318
CREATED:20240910T154505Z
LAST-MODIFIED:20241031T121429Z
UID:57555-1725926400-1749427199@www.cm-meda.pt
SUMMARY:Piscina Municipal Coberta
DESCRIPTION:Piscina Municipal Coberta \n  \nUtilização livre: \nSegunda a sexta das 14h30 às 20h30 (mediante disponibilidade) \n  \nEscola de Natação: \nTerça a sexta das 14h30 às 20h30 \nAdaptação ao meio aquático \nAprendizagem e aperfeiçoamento técnico \n  \nAbertura da Piscina Coberta: 30 setembro de 2024 \nInício da Escola de Natação: 1 outubro de 2024 \n  \nMais informações: \nComplexo Desportivo Municipal: 279 883 412 | reservasdesporto@cm-meda.pt \n  \nFaça a sua inscrição!
URL:https://www.cm-meda.pt/evento/abertura-piscina-municipal-coberta/
LOCATION:Complexo Desportivo Municipal\, Rua Trás do Campo\, Mêda\, 6430\, Portugal
CATEGORIES:Desporto
ATTACH;FMTTYPE=image/jpeg:https://www.cm-meda.pt/wp-content/uploads/2024/09/piscina_natacao_2024_redes.jpg
END:VEVENT
BEGIN:VEVENT
DTSTART;VALUE=DATE:20240910
DTEND;VALUE=DATE:20250609
DTSTAMP:20260421T113318
CREATED:20241014T082401Z
LAST-MODIFIED:20241031T115454Z
UID:57911-1725926400-1749427199@www.cm-meda.pt
SUMMARY:Escola de Andebol
DESCRIPTION:Escola de Andebol\n\nSegunda-feira | 17h30 às 19h00\n\nDos 6 aos 9 anos\n\nEscalão: Manitas e Bambis\n\nNascidos: 2015 a 2018 | Masculinos e Femininos\n\n\n\n\nMais informações: \nComplexo Desportivo Municipal: 279 883 412 | reservasdesporto@cm-meda.pt
URL:https://www.cm-meda.pt/evento/abertura-piscina-municipal-coberta-2/
LOCATION:Complexo Desportivo Municipal\, Rua Trás do Campo\, Mêda\, 6430\, Portugal
CATEGORIES:Desporto
ATTACH;FMTTYPE=image/jpeg:https://www.cm-meda.pt/wp-content/uploads/2024/10/andebol_2024_redes.jpg
END:VEVENT
BEGIN:VEVENT
DTSTART;VALUE=DATE:20241025
DTEND;VALUE=DATE:20250713
DTSTAMP:20260421T113318
CREATED:20241022T113922Z
LAST-MODIFIED:20241128T142903Z
UID:58178-1729814400-1752364799@www.cm-meda.pt
SUMMARY:Orfeão de Mêda
DESCRIPTION:  \n 
URL:https://www.cm-meda.pt/evento/orfeao-de-meda/
CATEGORIES:Atualidade,Música
ATTACH;FMTTYPE=image/jpeg:https://www.cm-meda.pt/wp-content/uploads/2024/10/orfeao_2024.jpg
END:VEVENT
BEGIN:VEVENT
DTSTART;VALUE=DATE:20250501
DTEND;VALUE=DATE:20250711
DTSTAMP:20260421T113318
CREATED:20250512T133902Z
LAST-MODIFIED:20250717T174923Z
UID:60829-1746057600-1752191999@www.cm-meda.pt
SUMMARY:Estágio de Verão 2025
DESCRIPTION:Normas de Funcionamento \nFormulário de Inscrição Online \n 
URL:https://www.cm-meda.pt/evento/marialva-medieval-2025-2/
CATEGORIES:Atualidade,Música
ATTACH;FMTTYPE=image/jpeg:https://www.cm-meda.pt/wp-content/uploads/2025/05/estagio-de-verao-2025-scaled.jpg
END:VEVENT
BEGIN:VEVENT
DTSTART;VALUE=DATE:20250531
DTEND;VALUE=DATE:20250602
DTSTAMP:20260421T113318
CREATED:20250526T092531Z
LAST-MODIFIED:20250526T092531Z
UID:61148-1748649600-1748822399@www.cm-meda.pt
SUMMARY:IV Feira das Atividades do Mundo Rural | 2025
DESCRIPTION:
URL:https://www.cm-meda.pt/evento/o-concelho-da-meda-e-um-jardim-2/
LOCATION:Nave de Exposições do Mercado Municipal\, Ed. do Mercado Municipal\, Meda\, 6430\, Portugal
CATEGORIES:Atividade ao ar livre,Atualidade,Caça,Exposição,Música,Ovinicultores,Produtos Endógenos,Restauração Local
ATTACH;FMTTYPE=image/jpeg:https://www.cm-meda.pt/wp-content/uploads/2025/05/farm_geral_redes-scaled.jpg
END:VEVENT
BEGIN:VEVENT
DTSTART;VALUE=DATE:20250608
DTEND;VALUE=DATE:20250609
DTSTAMP:20260421T113318
CREATED:20250604T083045Z
LAST-MODIFIED:20250604T083045Z
UID:61181-1749340800-1749427199@www.cm-meda.pt
SUMMARY:Rei dos Reis (VP) | M/6
DESCRIPTION:Género:  Drama\, Animação \nPaíses: Coreia do Sul\, Estados Unidos da América \nAno: 2025 \nDuração: 104 min \nSinopse: O grande escritor Charles Dickens achava difícil relacionar-se com o filho Walter\, dado estar tão empenhado na sua carreira. Um dia\, após Walter interromper uma das leituras de Dickens\, este decide contar-lhe a história de Jesus Cristo\, na esperança de diminuir a distância entre ambos. À medida que Dickens conta a história\, Walter fica cativado. Através da viagem de Jesus\, a relação de Dickens e do filho aprofunda-se\, culminando num vínculo de amor forjado através da narrativa. \n.
URL:https://www.cm-meda.pt/evento/reidosreis/
LOCATION:Casa Municipal da Cultura\, Av Cidade Nova\, Mêda\, 6430-102\, Portugal
CATEGORIES:Cinema
ATTACH;FMTTYPE=image/jpeg:https://www.cm-meda.pt/wp-content/uploads/2025/06/Cinema_junho_2025_1-scaled.jpg
END:VEVENT
BEGIN:VEVENT
DTSTART;VALUE=DATE:20250623
DTEND;VALUE=DATE:20250624
DTSTAMP:20260421T113318
CREATED:20250609T091112Z
LAST-MODIFIED:20250609T091112Z
UID:61228-1750636800-1750723199@www.cm-meda.pt
SUMMARY:Santos Populares com os Idosos do Concelho de Mêda
DESCRIPTION:  \n 
URL:https://www.cm-meda.pt/evento/santos-populares-com-os-idosos/
LOCATION:Parque de Campismo Municipal
CATEGORIES:Ação Social,Atualidade,Lazer,Música
ATTACH;FMTTYPE=image/jpeg:https://www.cm-meda.pt/wp-content/uploads/2025/06/Cartaz-Santos-Populares-.jpg
END:VEVENT
BEGIN:VEVENT
DTSTART;VALUE=DATE:20250627
DTEND;VALUE=DATE:20250628
DTSTAMP:20260421T113318
CREATED:20250604T083541Z
LAST-MODIFIED:20250604T083541Z
UID:61185-1750982400-1751068799@www.cm-meda.pt
SUMMARY:Missão: Impossível - O Ajuste de Contas Final | M/12
DESCRIPTION:Género:  Ação \nRealizador: Christopher McQuarrie \nAtores: Tom Cruise\, Simon Pegg\, Hayley Atwell \nPaíses:  Estados Unidos da América \nAno: 2025 \nDuração: 170 min \nSinopse: As nossas vidas são a soma das nossas escolhas. Tom Cruise é Ethan Hunt em “Missão: Impossível – O Ajuste de Contas Final”. \n.
URL:https://www.cm-meda.pt/evento/missaoimpossivel/
LOCATION:Casa Municipal da Cultura\, Av Cidade Nova\, Mêda\, 6430-102\, Portugal
CATEGORIES:Cinema
ATTACH;FMTTYPE=image/jpeg:https://www.cm-meda.pt/wp-content/uploads/2025/06/Cinema_junho_2025_2-scaled.jpg
END:VEVENT
BEGIN:VEVENT
DTSTART;VALUE=DATE:20250627
DTEND;VALUE=DATE:20250710
DTSTAMP:20260421T113318
CREATED:20250618T105128Z
LAST-MODIFIED:20250627T134039Z
UID:61268-1750982400-1752105599@www.cm-meda.pt
SUMMARY:Férias Desportivas de Verão 2025 - 2ª Quinzena
DESCRIPTION:Férias Desportivas de Verão 2025 \nDe 14 a 25 julho\, dos 6 aos 11 anos (nascidos de 2013 a 2018) \nInscreva o seu filho\, nestas férias que vão ser uma animação! \nFicha de Inscrição: \nFicha de Inscrição – Férias Desportivas Verão 2025 – 2ª Quinzena \nInscrições limitadas e obrigatórias até dia 9 de julho. \nPara mais informação contacte: \n279 883 412 \nreservasdesporto@cm-meda.pt
URL:https://www.cm-meda.pt/evento/ferias-desportivas-verao-2025-2quinzena/
LOCATION:Complexo Desportivo Municipal\, Rua Trás do Campo\, Mêda\, 6430\, Portugal
CATEGORIES:Atualidade,Desporto
ATTACH;FMTTYPE=image/jpeg:https://www.cm-meda.pt/wp-content/uploads/2025/06/Cartaz-Ferias-Desportivas-Verao-4.jpg
END:VEVENT
BEGIN:VEVENT
DTSTART;VALUE=DATE:20250629
DTEND;VALUE=DATE:20250630
DTSTAMP:20260421T113318
CREATED:20250617T083137Z
LAST-MODIFIED:20250617T083137Z
UID:61251-1751155200-1751241599@www.cm-meda.pt
SUMMARY:XXXVIII Festival de Folclore | 2025
DESCRIPTION:
URL:https://www.cm-meda.pt/evento/o-concelho-da-meda-e-um-jardim-2-2/
LOCATION:Parque Municipal\, Mêda\, 6430\, Portugal
CATEGORIES:Atividade ao ar livre,Atualidade,Festas populares,Música
ATTACH;FMTTYPE=image/jpeg:https://www.cm-meda.pt/wp-content/uploads/2025/06/ranchos_6-scaled.jpg
END:VEVENT
END:VCALENDAR