BEGIN:VCALENDAR
VERSION:2.0
PRODID:-//Município de Mêda - ECPv6.15.20//NONSGML v1.0//EN
CALSCALE:GREGORIAN
METHOD:PUBLISH
X-ORIGINAL-URL:https://www.cm-meda.pt
X-WR-CALDESC:Eventos para Município de Mêda
REFRESH-INTERVAL;VALUE=DURATION:PT1H
X-Robots-Tag:noindex
X-PUBLISHED-TTL:PT1H
BEGIN:VTIMEZONE
TZID:Europe/Lisbon
BEGIN:DAYLIGHT
TZOFFSETFROM:+0000
TZOFFSETTO:+0100
TZNAME:WEST
DTSTART:20230326T010000
END:DAYLIGHT
BEGIN:STANDARD
TZOFFSETFROM:+0100
TZOFFSETTO:+0000
TZNAME:WET
DTSTART:20231029T010000
END:STANDARD
BEGIN:DAYLIGHT
TZOFFSETFROM:+0000
TZOFFSETTO:+0100
TZNAME:WEST
DTSTART:20240331T010000
END:DAYLIGHT
BEGIN:STANDARD
TZOFFSETFROM:+0100
TZOFFSETTO:+0000
TZNAME:WET
DTSTART:20241027T010000
END:STANDARD
BEGIN:DAYLIGHT
TZOFFSETFROM:+0000
TZOFFSETTO:+0100
TZNAME:WEST
DTSTART:20250330T010000
END:DAYLIGHT
BEGIN:STANDARD
TZOFFSETFROM:+0100
TZOFFSETTO:+0000
TZNAME:WET
DTSTART:20251026T010000
END:STANDARD
END:VTIMEZONE
BEGIN:VEVENT
DTSTART;TZID=Europe/Lisbon:20240810T170000
DTEND;TZID=Europe/Lisbon:20240810T170000
DTSTAMP:20260419T153117
CREATED:20240724T162515Z
LAST-MODIFIED:20240724T164111Z
UID:56670-1723309200-1723309200@www.cm-meda.pt
SUMMARY:II Mêda com Pinta
DESCRIPTION:Ficha de Inscrição \nTermo de Responsabilidade \nRegulamento
URL:https://www.cm-meda.pt/evento/ii-meda-com-pinta/
LOCATION:Parque de Campismo Municipal
CATEGORIES:Atividade ao ar livre,Atualidade,Desporto,Lazer,Música
ATTACH;FMTTYPE=image/jpeg:https://www.cm-meda.pt/wp-content/uploads/2024/06/cartaz-meda-com-pinta-surpresa.jpg
END:VEVENT
BEGIN:VEVENT
DTSTART;TZID=Europe/Lisbon:20240811T090000
DTEND;TZID=Europe/Lisbon:20240811T190000
DTSTAMP:20260419T153117
CREATED:20240808T131103Z
LAST-MODIFIED:20240808T131103Z
UID:56972-1723366800-1723402800@www.cm-meda.pt
SUMMARY:VI Perícia Cidade de Mêda 2024
DESCRIPTION:
URL:https://www.cm-meda.pt/evento/vi-pericia-cidade-de-meda-2024/
CATEGORIES:Atividade ao ar livre,Atualidade
ATTACH;FMTTYPE=image/jpeg:https://www.cm-meda.pt/wp-content/uploads/2024/08/cartaz-per-meda-2024-web.jpg
END:VEVENT
BEGIN:VEVENT
DTSTART;VALUE=DATE:20240816
DTEND;VALUE=DATE:20240820
DTSTAMP:20260419T153117
CREATED:20240808T131321Z
LAST-MODIFIED:20240808T131321Z
UID:56976-1723766400-1724111999@www.cm-meda.pt
SUMMARY:Festas da Cidade de Mêda - 2024
DESCRIPTION:
URL:https://www.cm-meda.pt/evento/festas-da-cidade-de-meda-2024/
LOCATION:Largo das antigas Escolas Primárias\, Portugal
CATEGORIES:Atividade ao ar livre,Atualidade,Festas populares
ATTACH;FMTTYPE=image/jpeg:https://www.cm-meda.pt/wp-content/uploads/2024/08/Festa_Meda_1.jpg
END:VEVENT
BEGIN:VEVENT
DTSTART;TZID=Europe/Lisbon:20240825T090000
DTEND;TZID=Europe/Lisbon:20240825T170000
DTSTAMP:20260419T153117
CREATED:20240821T172207Z
LAST-MODIFIED:20240821T172207Z
UID:57352-1724576400-1724605200@www.cm-meda.pt
SUMMARY:Mercado da Terra
DESCRIPTION:
URL:https://www.cm-meda.pt/evento/mercado-da-terra-11/
LOCATION:Nave de Exposições do Mercado Municipal\, Ed. do Mercado Municipal\, Meda\, 6430\, Portugal
CATEGORIES:Atualidade,Produtos Endógenos
ATTACH;FMTTYPE=image/jpeg:https://www.cm-meda.pt/wp-content/uploads/2024/08/cartaz-mercado-27_08_2023__a4.jpg
END:VEVENT
BEGIN:VEVENT
DTSTART;VALUE=DATE:20240830
DTEND;VALUE=DATE:20240831
DTSTAMP:20260419T153117
CREATED:20240826T084507Z
LAST-MODIFIED:20240826T090509Z
UID:57365-1724976000-1725062399@www.cm-meda.pt
SUMMARY:18ª Volta a Portugal de Juniores
DESCRIPTION:
URL:https://www.cm-meda.pt/evento/18a-volta-a-portugal-de-juniores/
CATEGORIES:Atualidade,Desporto
ATTACH;FMTTYPE=image/jpeg:https://www.cm-meda.pt/wp-content/uploads/2024/08/cartaz_volta_juniores.jpg
END:VEVENT
END:VCALENDAR