BEGIN:VCALENDAR
VERSION:2.0
PRODID:-//Município de Mêda - ECPv6.15.20//NONSGML v1.0//EN
CALSCALE:GREGORIAN
METHOD:PUBLISH
X-WR-CALNAME:Município de Mêda
X-ORIGINAL-URL:https://www.cm-meda.pt
X-WR-CALDESC:Eventos para Município de Mêda
REFRESH-INTERVAL;VALUE=DURATION:PT1H
X-Robots-Tag:noindex
X-PUBLISHED-TTL:PT1H
BEGIN:VTIMEZONE
TZID:Europe/Lisbon
BEGIN:DAYLIGHT
TZOFFSETFROM:+0000
TZOFFSETTO:+0100
TZNAME:WEST
DTSTART:20220327T010000
END:DAYLIGHT
BEGIN:STANDARD
TZOFFSETFROM:+0100
TZOFFSETTO:+0000
TZNAME:WET
DTSTART:20221030T010000
END:STANDARD
BEGIN:DAYLIGHT
TZOFFSETFROM:+0000
TZOFFSETTO:+0100
TZNAME:WEST
DTSTART:20230326T010000
END:DAYLIGHT
BEGIN:STANDARD
TZOFFSETFROM:+0100
TZOFFSETTO:+0000
TZNAME:WET
DTSTART:20231029T010000
END:STANDARD
BEGIN:DAYLIGHT
TZOFFSETFROM:+0000
TZOFFSETTO:+0100
TZNAME:WEST
DTSTART:20240331T010000
END:DAYLIGHT
BEGIN:STANDARD
TZOFFSETFROM:+0100
TZOFFSETTO:+0000
TZNAME:WET
DTSTART:20241027T010000
END:STANDARD
BEGIN:DAYLIGHT
TZOFFSETFROM:+0000
TZOFFSETTO:+0100
TZNAME:WEST
DTSTART:20250330T010000
END:DAYLIGHT
BEGIN:STANDARD
TZOFFSETFROM:+0100
TZOFFSETTO:+0000
TZNAME:WET
DTSTART:20251026T010000
END:STANDARD
END:VTIMEZONE
BEGIN:VEVENT
DTSTART;TZID=Europe/Lisbon:20231001T080000
DTEND;TZID=Europe/Lisbon:20240630T170000
DTSTAMP:20260421T122504
CREATED:20230927T111921Z
LAST-MODIFIED:20240322T165526Z
UID:51945-1696147200-1719766800@www.cm-meda.pt
SUMMARY:Diabetes em Movimento
DESCRIPTION:  \n 
URL:https://www.cm-meda.pt/evento/diabetes-em-movimento/
LOCATION:Complexo Desportivo Municipal\, Rua Trás do Campo\, Mêda\, 6430\, Portugal
CATEGORIES:Atualidade,Desporto
ATTACH;FMTTYPE=image/jpeg:https://www.cm-meda.pt/wp-content/uploads/2023/09/Cartaz-Diabetes-em-Movimento-MEDA-2023-2024-v1.1.jpg
END:VEVENT
BEGIN:VEVENT
DTSTART;TZID=Europe/Lisbon:20240601T063000
DTEND;TZID=Europe/Lisbon:20240602T200000
DTSTAMP:20260421T122504
CREATED:20240520T094641Z
LAST-MODIFIED:20240527T130818Z
UID:55264-1717223400-1717358400@www.cm-meda.pt
SUMMARY:III Feira das Atividades do Mundo Rural
DESCRIPTION:
URL:https://www.cm-meda.pt/evento/iii-feira-das-atividades-do-mundo-rural/
LOCATION:Nave de Exposições do Mercado Municipal\, Ed. do Mercado Municipal\, Meda\, 6430\, Portugal
CATEGORIES:Atividade ao ar livre,Atualidade,Caça,Produtos Endógenos
ATTACH;FMTTYPE=image/jpeg:https://www.cm-meda.pt/wp-content/uploads/2024/05/FAMR_programa_final.jpg
END:VEVENT
BEGIN:VEVENT
DTSTART;TZID=Europe/Lisbon:20240601T213000
DTEND;TZID=Europe/Lisbon:20240601T213000
DTSTAMP:20260421T122504
CREATED:20240430T153828Z
LAST-MODIFIED:20240430T161731Z
UID:54816-1717277400-1717277400@www.cm-meda.pt
SUMMARY:Palestra Motivacional com Adelino Cunha
DESCRIPTION:Inscrição
URL:https://www.cm-meda.pt/evento/palestra-motivacional-com-adelino-cunha/
LOCATION:Casa Municipal da Culura
CATEGORIES:Atualidade,Palestra
ATTACH;FMTTYPE=image/jpeg:https://www.cm-meda.pt/wp-content/uploads/2024/04/palestra-motivacional-adelino-cunha.jpg
END:VEVENT
BEGIN:VEVENT
DTSTART;VALUE=DATE:20240603
DTEND;VALUE=DATE:20240604
DTSTAMP:20260421T122504
CREATED:20240527T155740Z
LAST-MODIFIED:20240527T161509Z
UID:55354-1717372800-1717459199@www.cm-meda.pt
SUMMARY:Dia da Criança
DESCRIPTION:
URL:https://www.cm-meda.pt/evento/dia-da-crianca/
CATEGORIES:Atualidade,Lazer
ATTACH;FMTTYPE=image/jpeg:https://www.cm-meda.pt/wp-content/uploads/2024/05/dia-da-crianca.jpg
END:VEVENT
BEGIN:VEVENT
DTSTART;VALUE=DATE:20240605
DTEND;VALUE=DATE:20240607
DTSTAMP:20260421T122504
CREATED:20240529T081610Z
LAST-MODIFIED:20240529T082023Z
UID:55403-1717545600-1717718399@www.cm-meda.pt
SUMMARY:Avaliação de Densidade Mineral Óssea
DESCRIPTION:
URL:https://www.cm-meda.pt/evento/avaliacao-de-densidade-mineral-ossea/
CATEGORIES:Ação de sensibilização,Atualidade,Rastreios,Saúde
ATTACH;FMTTYPE=image/jpeg:https://www.cm-meda.pt/wp-content/uploads/2024/05/cartaz-1.jpg
END:VEVENT
BEGIN:VEVENT
DTSTART;TZID=Europe/Lisbon:20240608T150000
DTEND;TZID=Europe/Lisbon:20240608T193000
DTSTAMP:20260421T122504
CREATED:20240604T082756Z
LAST-MODIFIED:20240604T082818Z
UID:55430-1717858800-1717875000@www.cm-meda.pt
SUMMARY:Torneio de ANDEBOL “4 NAÇÕES”
DESCRIPTION:
URL:https://www.cm-meda.pt/evento/torneio-de-andebol-4-nacoes/
LOCATION:Complexo Desportivo Municipal\, Rua Trás do Campo\, Mêda\, 6430\, Portugal
CATEGORIES:Atividade ao ar livre
ATTACH;FMTTYPE=image/jpeg:https://www.cm-meda.pt/wp-content/uploads/2024/06/Cartaz2_A3_Torneio4Nacoes.jpg
END:VEVENT
BEGIN:VEVENT
DTSTART;TZID=Europe/Lisbon:20240610T163000
DTEND;TZID=Europe/Lisbon:20240610T163000
DTSTAMP:20260421T122504
CREATED:20240527T102713Z
LAST-MODIFIED:20240527T102718Z
UID:55305-1718037000-1718037000@www.cm-meda.pt
SUMMARY:Marchas Populares
DESCRIPTION:
URL:https://www.cm-meda.pt/evento/marchas-populares-2/
CATEGORIES:Atividade ao ar livre,Atualidade,Festas populares
ATTACH;FMTTYPE=image/jpeg:https://www.cm-meda.pt/wp-content/uploads/2024/05/marchas-populares-2024.jpg
END:VEVENT
BEGIN:VEVENT
DTSTART;VALUE=DATE:20240614
DTEND;VALUE=DATE:20240615
DTSTAMP:20260421T122504
CREATED:20240524T151122Z
LAST-MODIFIED:20240527T103316Z
UID:55298-1718323200-1718409599@www.cm-meda.pt
SUMMARY:Santos Populares com os/as Idosos/as do Concelho de Mêda
DESCRIPTION:
URL:https://www.cm-meda.pt/evento/santos-populares-com-os-as-idosos-as-do-concelho-de-meda/
CATEGORIES:Ação Social,Atividade ao ar livre,Atualidade,Festas populares,Palestra
ATTACH;FMTTYPE=image/jpeg:https://www.cm-meda.pt/wp-content/uploads/2024/05/santos-populares-2024.jpg
END:VEVENT
BEGIN:VEVENT
DTSTART;TZID=Europe/Lisbon:20240614T213000
DTEND;TZID=Europe/Lisbon:20240614T213000
DTSTAMP:20260421T122504
CREATED:20240528T085209Z
LAST-MODIFIED:20240528T085211Z
UID:55385-1718400600-1718400600@www.cm-meda.pt
SUMMARY:Cândido o espião que veio do futebol
DESCRIPTION:Género: Drama \nRealizador: Jorge Paixão da Costa \nAtores: Tomás Alves\, Filipe Vargas\, Teresa Tavares \nPaís:  Portugal \nAno: 2024 \nDuração (minutos): 100 \nSinopse: “Cândido” conta a história do telegrafista\, jornalista\, selecionador nacional\, jogador de futebol… e espião que ajudou os Aliados na luta contra os Nazis durante a 2ª Guerra Mundial.
URL:https://www.cm-meda.pt/evento/candido-o-espiao-que-veio-do-futebol/
LOCATION:Casa Municipal da Culura
CATEGORIES:Cinema
ATTACH;FMTTYPE=image/jpeg:https://www.cm-meda.pt/wp-content/uploads/2024/05/Candido.jpg
END:VEVENT
BEGIN:VEVENT
DTSTART;TZID=Europe/Lisbon:20240618T143000
DTEND;TZID=Europe/Lisbon:20240618T200000
DTSTAMP:20260421T122504
CREATED:20240614T083258Z
LAST-MODIFIED:20240617T080823Z
UID:55749-1718721000-1718740800@www.cm-meda.pt
SUMMARY:Época Balnear 2024
DESCRIPTION:
URL:https://www.cm-meda.pt/evento/epoca-balnear-2024/
LOCATION:Complexo Desportivo Municipal\, Rua Trás do Campo\, Mêda\, 6430\, Portugal
CATEGORIES:Atividade ao ar livre,Atualidade,Desporto
ATTACH;FMTTYPE=image/jpeg:https://www.cm-meda.pt/wp-content/uploads/2024/06/epoca_balnear_2024.jpg
END:VEVENT
BEGIN:VEVENT
DTSTART;TZID=Europe/Lisbon:20240623T150000
DTEND;TZID=Europe/Lisbon:20240623T150000
DTSTAMP:20260421T122504
CREATED:20240528T085808Z
LAST-MODIFIED:20240528T085808Z
UID:55393-1719154800-1719154800@www.cm-meda.pt
SUMMARY:Garfield
DESCRIPTION:Género: Animação \nRealizador:Mark Dindal \nVersão: VP \nPaís: EUA \nAno: 2024 \nDuração (minutos): 100 \nSinopse: Garfield\, o gato mais famoso do mundo\, que odeia segundas-feiras e adora lasanha\, está prestes a ter uma louca aventura ao ar livre! Depois de um reencontro inesperado com o seu pai há muito desaparecido – o desalinhado gato de rua Vic – Garfield e seu amigo Odie são forçados a deixar a sua vida mimada para se juntarem a Vic numa aventura hilariante e de alto risco.
URL:https://www.cm-meda.pt/evento/garfield/
LOCATION:Casa Municipal da Culura
CATEGORIES:Cinema
ATTACH;FMTTYPE=image/jpeg:https://www.cm-meda.pt/wp-content/uploads/2024/05/garfield.jpg
END:VEVENT
BEGIN:VEVENT
DTSTART;TZID=Europe/Lisbon:20240628T213000
DTEND;TZID=Europe/Lisbon:20240628T213000
DTSTAMP:20260421T122504
CREATED:20240528T085456Z
LAST-MODIFIED:20240528T085520Z
UID:55389-1719610200-1719610200@www.cm-meda.pt
SUMMARY:Furiosa - Uma Saga Mad Max
DESCRIPTION:Género: Ação \nRealizador: George Miller \nAtores: Anya Taylor-Joy\, Chris Hemsworth\, Angus Sampson \nPaís:  América\, EUA \nAno: 2024 \nDuração (minutos): 149 \nSinopse: À medida que o mundo desabava\, a jovem Furiosa é retirada do Lugar Verde das Muitas Mães e cai nas mãos de uma grande Horda de Motociclistas liderada pelo Senhor da Guerra Dementus. Varrendo o Deserto\, deparam-se com a Cidadela presidida por Immortan Joe. Enquanto os dois tiranos guerreiam pela supremacia\, Furiosa tem de sobreviver a muitas provações enquanto reúne os meios para encontrar o caminho de volta a casa. Anya Taylor-Joy e Chris Hemsworth protagonizam este filme\, do vencedor do Prémio de Academia®\, George Miller\, que marca o aguardado regresso ao icónico mundo distópico que criou há mais de 30 anos com os marcantes filmes “Mad Max”.
URL:https://www.cm-meda.pt/evento/furiosa-uma-saga-mad-max/
LOCATION:Casa Municipal da Culura
CATEGORIES:Cinema
ATTACH;FMTTYPE=image/jpeg:https://www.cm-meda.pt/wp-content/uploads/2024/05/furiosa.jpg
END:VEVENT
BEGIN:VEVENT
DTSTART;TZID=Europe/Lisbon:20240630T160000
DTEND;TZID=Europe/Lisbon:20240630T200000
DTSTAMP:20260421T122504
CREATED:20240617T081454Z
LAST-MODIFIED:20240617T081918Z
UID:55938-1719763200-1719777600@www.cm-meda.pt
SUMMARY:XXXVII Festival de Folclore
DESCRIPTION:
URL:https://www.cm-meda.pt/evento/xxxvii-festival-de-folclore/
LOCATION:Parque Municipal\, Mêda\, 6430\, Portugal
CATEGORIES:Atividade ao ar livre,Atualidade
ATTACH;FMTTYPE=image/jpeg:https://www.cm-meda.pt/wp-content/uploads/2024/06/folclore_2024_impressao.jpg
END:VEVENT
END:VCALENDAR