BEGIN:VCALENDAR
VERSION:2.0
PRODID:-//Município de Mêda - ECPv6.15.20//NONSGML v1.0//EN
CALSCALE:GREGORIAN
METHOD:PUBLISH
X-ORIGINAL-URL:https://www.cm-meda.pt
X-WR-CALDESC:Eventos para Município de Mêda
REFRESH-INTERVAL;VALUE=DURATION:PT1H
X-Robots-Tag:noindex
X-PUBLISHED-TTL:PT1H
BEGIN:VTIMEZONE
TZID:Europe/Lisbon
BEGIN:DAYLIGHT
TZOFFSETFROM:+0000
TZOFFSETTO:+0100
TZNAME:WEST
DTSTART:20220327T010000
END:DAYLIGHT
BEGIN:STANDARD
TZOFFSETFROM:+0100
TZOFFSETTO:+0000
TZNAME:WET
DTSTART:20221030T010000
END:STANDARD
BEGIN:DAYLIGHT
TZOFFSETFROM:+0000
TZOFFSETTO:+0100
TZNAME:WEST
DTSTART:20230326T010000
END:DAYLIGHT
BEGIN:STANDARD
TZOFFSETFROM:+0100
TZOFFSETTO:+0000
TZNAME:WET
DTSTART:20231029T010000
END:STANDARD
BEGIN:DAYLIGHT
TZOFFSETFROM:+0000
TZOFFSETTO:+0100
TZNAME:WEST
DTSTART:20240331T010000
END:DAYLIGHT
BEGIN:STANDARD
TZOFFSETFROM:+0100
TZOFFSETTO:+0000
TZNAME:WET
DTSTART:20241027T010000
END:STANDARD
BEGIN:DAYLIGHT
TZOFFSETFROM:+0000
TZOFFSETTO:+0100
TZNAME:WEST
DTSTART:20250330T010000
END:DAYLIGHT
BEGIN:STANDARD
TZOFFSETFROM:+0100
TZOFFSETTO:+0000
TZNAME:WET
DTSTART:20251026T010000
END:STANDARD
END:VTIMEZONE
BEGIN:VEVENT
DTSTART;TZID=Europe/Lisbon:20231001T080000
DTEND;TZID=Europe/Lisbon:20240630T170000
DTSTAMP:20260421T141943
CREATED:20230927T111921Z
LAST-MODIFIED:20240322T165526Z
UID:51945-1696147200-1719766800@www.cm-meda.pt
SUMMARY:Diabetes em Movimento
DESCRIPTION:  \n 
URL:https://www.cm-meda.pt/evento/diabetes-em-movimento/
LOCATION:Complexo Desportivo Municipal\, Rua Trás do Campo\, Mêda\, 6430\, Portugal
CATEGORIES:Atualidade,Desporto
ATTACH;FMTTYPE=image/jpeg:https://www.cm-meda.pt/wp-content/uploads/2023/09/Cartaz-Diabetes-em-Movimento-MEDA-2023-2024-v1.1.jpg
END:VEVENT
BEGIN:VEVENT
DTSTART;VALUE=DATE:20231016
DTEND;VALUE=DATE:20240601
DTSTAMP:20260421T141943
CREATED:20231013T111603Z
LAST-MODIFIED:20240131T120704Z
UID:52099-1697414400-1717199999@www.cm-meda.pt
SUMMARY:Escola de Andebol
DESCRIPTION:  \n 
URL:https://www.cm-meda.pt/evento/escola-de-andebol-3/
LOCATION:Complexo Desportivo Municipal\, Rua Trás do Campo\, Mêda\, 6430\, Portugal
CATEGORIES:Desporto
ATTACH;FMTTYPE=image/png:https://www.cm-meda.pt/wp-content/uploads/2023/10/escola-de-andebol.png
END:VEVENT
BEGIN:VEVENT
DTSTART;VALUE=DATE:20240415
DTEND;VALUE=DATE:20240422
DTSTAMP:20260421T141943
CREATED:20240415T103200Z
LAST-MODIFIED:20240415T103443Z
UID:54545-1713139200-1713743999@www.cm-meda.pt
SUMMARY:Candidaturas abertas para Mediação e Produção Cultural em Mêda
DESCRIPTION:O projeto ViViFiCAR está a recrutar um(a) Mediador(a) e / ou Produtor(a) Cultural residente no concelho de Mêda para se juntar à equipa da 2ª edição do projeto\, organizada e produzida pela Plataforma Ci.CLO\, integrada na Bienal’25 Fotografia do Porto. A sua responsabilidade será apoiar um(a) artista em residência no município de Mêda em 3 momentos durante o ano 2024\, bem como apoiar a mediação entre o projeto ViViFiCAR e as comunidades do município\, incentivando o seu envolvimento no processo de criação do(a) artista. \nSendo uma âncora fundamental do projeto ViViFiCAR\, a pessoa seleccionada para esta função beneficiará de uma oportunidade de formação contínua ao longo do projeto\, na área da mediação e produção cultural. \nCandidaturas até: 21.04.2024 // Início de funções: início de Maio de 2024 \nPara saber mais sobre esta oportunidade de colaboração profissional\, consulte o formulário de candidatura e o regulamento: https://mediators.opencall.vivificar.pt/pt
URL:https://www.cm-meda.pt/evento/candidaturas-abertas-para-mediacao-e-producao-cultural-em-meda/
CATEGORIES:Atualidade
ATTACH;FMTTYPE=image/jpeg:https://www.cm-meda.pt/wp-content/uploads/2024/04/FB.jpg
END:VEVENT
BEGIN:VEVENT
DTSTART;VALUE=DATE:20240425
DTEND;VALUE=DATE:20240426
DTSTAMP:20260421T141943
CREATED:20240314T120445Z
LAST-MODIFIED:20240424T102129Z
UID:54236-1714003200-1714089599@www.cm-meda.pt
SUMMARY:25 de abril
DESCRIPTION:
URL:https://www.cm-meda.pt/evento/25-de-abril/
CATEGORIES:Atualidade,Educação,Música
ATTACH;FMTTYPE=image/png:https://www.cm-meda.pt/wp-content/uploads/2024/03/cartaz-final@4x-1.png
END:VEVENT
BEGIN:VEVENT
DTSTART;TZID=Europe/Lisbon:20240428T090000
DTEND;TZID=Europe/Lisbon:20240428T170000
DTSTAMP:20260421T141943
CREATED:20240426T080618Z
LAST-MODIFIED:20240426T080653Z
UID:54658-1714294800-1714323600@www.cm-meda.pt
SUMMARY:Mercado da Terra
DESCRIPTION:
URL:https://www.cm-meda.pt/evento/mercado-da-terra-9/
LOCATION:Nave de Exposições do Mercado Municipal\, Ed. do Mercado Municipal\, Meda\, 6430\, Portugal
CATEGORIES:Atualidade,Produtos Endógenos
ATTACH;FMTTYPE=image/jpeg:https://www.cm-meda.pt/wp-content/uploads/2024/04/cartaz-mercado-28_04_2024__redes.jpg
END:VEVENT
END:VCALENDAR