BEGIN:VCALENDAR
VERSION:2.0
PRODID:-//Município de Mêda - ECPv6.15.20//NONSGML v1.0//EN
CALSCALE:GREGORIAN
METHOD:PUBLISH
X-WR-CALNAME:Município de Mêda
X-ORIGINAL-URL:https://www.cm-meda.pt
X-WR-CALDESC:Eventos para Município de Mêda
REFRESH-INTERVAL;VALUE=DURATION:PT1H
X-Robots-Tag:noindex
X-PUBLISHED-TTL:PT1H
BEGIN:VTIMEZONE
TZID:Europe/Lisbon
BEGIN:DAYLIGHT
TZOFFSETFROM:+0000
TZOFFSETTO:+0100
TZNAME:WEST
DTSTART:20230326T010000
END:DAYLIGHT
BEGIN:STANDARD
TZOFFSETFROM:+0100
TZOFFSETTO:+0000
TZNAME:WET
DTSTART:20231029T010000
END:STANDARD
BEGIN:DAYLIGHT
TZOFFSETFROM:+0000
TZOFFSETTO:+0100
TZNAME:WEST
DTSTART:20240331T010000
END:DAYLIGHT
BEGIN:STANDARD
TZOFFSETFROM:+0100
TZOFFSETTO:+0000
TZNAME:WET
DTSTART:20241027T010000
END:STANDARD
BEGIN:DAYLIGHT
TZOFFSETFROM:+0000
TZOFFSETTO:+0100
TZNAME:WEST
DTSTART:20250330T010000
END:DAYLIGHT
BEGIN:STANDARD
TZOFFSETFROM:+0100
TZOFFSETTO:+0000
TZNAME:WET
DTSTART:20251026T010000
END:STANDARD
BEGIN:DAYLIGHT
TZOFFSETFROM:+0000
TZOFFSETTO:+0100
TZNAME:WEST
DTSTART:20260329T010000
END:DAYLIGHT
BEGIN:STANDARD
TZOFFSETFROM:+0100
TZOFFSETTO:+0000
TZNAME:WET
DTSTART:20261025T010000
END:STANDARD
END:VTIMEZONE
BEGIN:VEVENT
DTSTART;VALUE=DATE:20241025
DTEND;VALUE=DATE:20250713
DTSTAMP:20260423T123910
CREATED:20241022T113922Z
LAST-MODIFIED:20241128T142903Z
UID:58178-1729814400-1752364799@www.cm-meda.pt
SUMMARY:Orfeão de Mêda
DESCRIPTION:  \n 
URL:https://www.cm-meda.pt/evento/orfeao-de-meda/
CATEGORIES:Atualidade,Música
ATTACH;FMTTYPE=image/jpeg:https://www.cm-meda.pt/wp-content/uploads/2024/10/orfeao_2024.jpg
END:VEVENT
BEGIN:VEVENT
DTSTART;VALUE=DATE:20250402
DTEND;VALUE=DATE:20250407
DTSTAMP:20260423T123910
CREATED:20250326T140848Z
LAST-MODIFIED:20250326T140848Z
UID:60019-1743552000-1743983999@www.cm-meda.pt
SUMMARY:Feira do Livro | 2025
DESCRIPTION:
URL:https://www.cm-meda.pt/evento/desfile-de-carnaval-3/
LOCATION:Nave de Exposições do Mercado Municipal\, Ed. do Mercado Municipal\, Meda\, 6430\, Portugal
CATEGORIES:Atualidade,Educação,Exposição,Leitura,Música
ATTACH;FMTTYPE=image/jpeg:https://www.cm-meda.pt/wp-content/uploads/2025/03/cartazfeiradolivro_revisto.jpg
END:VEVENT
BEGIN:VEVENT
DTSTART;TZID=Europe/Lisbon:20250413T150000
DTEND;TZID=Europe/Lisbon:20250413T163000
DTSTAMP:20260423T123910
CREATED:20250409T083350Z
LAST-MODIFIED:20250409T083350Z
UID:60358-1744556400-1744561800@www.cm-meda.pt
SUMMARY:Concerto de Páscoa
DESCRIPTION:
URL:https://www.cm-meda.pt/evento/marchas-populares-2-2/
LOCATION:Casa Municipal da Cultura\, Av Cidade Nova\, Mêda\, 6430-102\, Portugal
CATEGORIES:Atualidade,Música
ATTACH;FMTTYPE=image/jpeg:https://www.cm-meda.pt/wp-content/uploads/2025/04/pascoa-scaled.jpg
END:VEVENT
BEGIN:VEVENT
DTSTART;VALUE=DATE:20250424
DTEND;VALUE=DATE:20250426
DTSTAMP:20260423T123910
CREATED:20250422T141601Z
LAST-MODIFIED:20250422T141601Z
UID:60522-1745452800-1745625599@www.cm-meda.pt
SUMMARY:Comemorações 25 de abril | 2025
DESCRIPTION:
URL:https://www.cm-meda.pt/evento/25-abril/
CATEGORIES:Atividade ao ar livre,Atualidade,Cerimónia,Música
ATTACH;FMTTYPE=image/jpeg:https://www.cm-meda.pt/wp-content/uploads/2025/04/abril-scaled.jpg
END:VEVENT
BEGIN:VEVENT
DTSTART;VALUE=DATE:20250430
DTEND;VALUE=DATE:20250526
DTSTAMP:20260423T123910
CREATED:20250430T134725Z
LAST-MODIFIED:20250430T163923Z
UID:60737-1745971200-1748217599@www.cm-meda.pt
SUMMARY:O Concelho da Mêda é um Jardim…
DESCRIPTION:O concelho de Mêda é um jardim… e queremos que floresça ainda mais! \nEstão abertas as inscrições para o concurso “Varandas\, Janelas e Portas Floridas”! \nParticipe e ajude-nos a transformar o nosso concelho num verdadeiro postal florido. \nDecore a sua varanda\, janela ou porta com flores e plantas\, partilhe a sua criatividade e contribua para um ambiente mais bonito e acolhedor. \nInscreva-se presencialmente no Edifício dos Paços do Concelho (serviço de expediente geral) no formulário que será disponibilizado para o efeito ou através do envio via email para o endereço: geral@cm-meda.pt até ao próximo dia 25 de maio de 2025. \nVamos juntos mostrar que o concelho de Mêda é um jardim! \nNormas de Participação “O concelho de Mêda é um Jardim” \nFicha Inscrição “O concelho de Mêda é um Jardim…”
URL:https://www.cm-meda.pt/evento/o-concelho-da-meda-e-um-jardim/
CATEGORIES:Atividade ao ar livre,Atualidade
ATTACH;FMTTYPE=image/jpeg:https://www.cm-meda.pt/wp-content/uploads/2025/04/MedaJardim_cartaz-scaled.jpg
END:VEVENT
END:VCALENDAR