BEGIN:VCALENDAR
VERSION:2.0
PRODID:-//Município de Mêda - ECPv6.15.20//NONSGML v1.0//EN
CALSCALE:GREGORIAN
METHOD:PUBLISH
X-WR-CALNAME:Município de Mêda
X-ORIGINAL-URL:https://www.cm-meda.pt
X-WR-CALDESC:Eventos para Município de Mêda
REFRESH-INTERVAL;VALUE=DURATION:PT1H
X-Robots-Tag:noindex
X-PUBLISHED-TTL:PT1H
BEGIN:VTIMEZONE
TZID:Europe/Lisbon
BEGIN:DAYLIGHT
TZOFFSETFROM:+0000
TZOFFSETTO:+0100
TZNAME:WEST
DTSTART:20230326T010000
END:DAYLIGHT
BEGIN:STANDARD
TZOFFSETFROM:+0100
TZOFFSETTO:+0000
TZNAME:WET
DTSTART:20231029T010000
END:STANDARD
BEGIN:DAYLIGHT
TZOFFSETFROM:+0000
TZOFFSETTO:+0100
TZNAME:WEST
DTSTART:20240331T010000
END:DAYLIGHT
BEGIN:STANDARD
TZOFFSETFROM:+0100
TZOFFSETTO:+0000
TZNAME:WET
DTSTART:20241027T010000
END:STANDARD
BEGIN:DAYLIGHT
TZOFFSETFROM:+0000
TZOFFSETTO:+0100
TZNAME:WEST
DTSTART:20250330T010000
END:DAYLIGHT
BEGIN:STANDARD
TZOFFSETFROM:+0100
TZOFFSETTO:+0000
TZNAME:WET
DTSTART:20251026T010000
END:STANDARD
BEGIN:DAYLIGHT
TZOFFSETFROM:+0000
TZOFFSETTO:+0100
TZNAME:WEST
DTSTART:20260329T010000
END:DAYLIGHT
BEGIN:STANDARD
TZOFFSETFROM:+0100
TZOFFSETTO:+0000
TZNAME:WET
DTSTART:20261025T010000
END:STANDARD
END:VTIMEZONE
BEGIN:VEVENT
DTSTART;VALUE=DATE:20241025
DTEND;VALUE=DATE:20250713
DTSTAMP:20260421T152322
CREATED:20241022T113922Z
LAST-MODIFIED:20241128T142903Z
UID:58178-1729814400-1752364799@www.cm-meda.pt
SUMMARY:Orfeão de Mêda
DESCRIPTION:  \n 
URL:https://www.cm-meda.pt/evento/orfeao-de-meda/
CATEGORIES:Atualidade,Música
ATTACH;FMTTYPE=image/jpeg:https://www.cm-meda.pt/wp-content/uploads/2024/10/orfeao_2024.jpg
END:VEVENT
BEGIN:VEVENT
DTSTART;TZID=Europe/Lisbon:20250214T143000
DTEND;TZID=Europe/Lisbon:20250214T203000
DTSTAMP:20260421T152322
CREATED:20250213T090943Z
LAST-MODIFIED:20250213T090944Z
UID:59494-1739543400-1739565000@www.cm-meda.pt
SUMMARY:OPEN DAY DESPORTIVO | ESPECIAL DIA DOS NAMORADOS
DESCRIPTION:
URL:https://www.cm-meda.pt/evento/open-day-desportivo-especial-dia-dos-namorados/
LOCATION:Complexo Desportivo Municipal\, Rua Trás do Campo\, Mêda\, 6430\, Portugal
CATEGORIES:Atualidade,Desporto
ATTACH;FMTTYPE=image/jpeg:https://www.cm-meda.pt/wp-content/uploads/2025/02/opendaydesportivo_diadosnamorados_redes.jpg
END:VEVENT
BEGIN:VEVENT
DTSTART;TZID=Europe/Lisbon:20250223T080000
DTEND;TZID=Europe/Lisbon:20250223T170000
DTSTAMP:20260421T152322
CREATED:20250220T140857Z
LAST-MODIFIED:20250220T140858Z
UID:59509-1740297600-1740330000@www.cm-meda.pt
SUMMARY:Mercado da Terra
DESCRIPTION:
URL:https://www.cm-meda.pt/evento/mercado-da-terra-13/
LOCATION:Nave de Exposições do Mercado Municipal\, Ed. do Mercado Municipal\, Meda\, 6430\, Portugal
CATEGORIES:Atualidade,Produtos Endógenos
ATTACH;FMTTYPE=image/jpeg:https://www.cm-meda.pt/wp-content/uploads/2025/02/mercadodaterra_2025_fev.jpg
END:VEVENT
BEGIN:VEVENT
DTSTART;TZID=Europe/Lisbon:20250228T140000
DTEND;TZID=Europe/Lisbon:20250228T173000
DTSTAMP:20260421T152322
CREATED:20250221T121906Z
LAST-MODIFIED:20250221T122452Z
UID:59528-1740751200-1740763800@www.cm-meda.pt
SUMMARY:Desfile de Carnaval
DESCRIPTION:
URL:https://www.cm-meda.pt/evento/desfile-de-carnaval/
CATEGORIES:Atualidade,Educação,Música
ATTACH;FMTTYPE=image/jpeg:https://www.cm-meda.pt/wp-content/uploads/2025/02/carnaval_redes.jpg
END:VEVENT
END:VCALENDAR