BEGIN:VCALENDAR
VERSION:2.0
PRODID:-//Município de Mêda - ECPv6.15.20//NONSGML v1.0//EN
CALSCALE:GREGORIAN
METHOD:PUBLISH
X-ORIGINAL-URL:https://www.cm-meda.pt
X-WR-CALDESC:Eventos para Município de Mêda
REFRESH-INTERVAL;VALUE=DURATION:PT1H
X-Robots-Tag:noindex
X-PUBLISHED-TTL:PT1H
BEGIN:VTIMEZONE
TZID:Europe/Lisbon
BEGIN:DAYLIGHT
TZOFFSETFROM:+0000
TZOFFSETTO:+0100
TZNAME:WEST
DTSTART:20230326T010000
END:DAYLIGHT
BEGIN:STANDARD
TZOFFSETFROM:+0100
TZOFFSETTO:+0000
TZNAME:WET
DTSTART:20231029T010000
END:STANDARD
BEGIN:DAYLIGHT
TZOFFSETFROM:+0000
TZOFFSETTO:+0100
TZNAME:WEST
DTSTART:20240331T010000
END:DAYLIGHT
BEGIN:STANDARD
TZOFFSETFROM:+0100
TZOFFSETTO:+0000
TZNAME:WET
DTSTART:20241027T010000
END:STANDARD
BEGIN:DAYLIGHT
TZOFFSETFROM:+0000
TZOFFSETTO:+0100
TZNAME:WEST
DTSTART:20250330T010000
END:DAYLIGHT
BEGIN:STANDARD
TZOFFSETFROM:+0100
TZOFFSETTO:+0000
TZNAME:WET
DTSTART:20251026T010000
END:STANDARD
BEGIN:DAYLIGHT
TZOFFSETFROM:+0000
TZOFFSETTO:+0100
TZNAME:WEST
DTSTART:20260329T010000
END:DAYLIGHT
BEGIN:STANDARD
TZOFFSETFROM:+0100
TZOFFSETTO:+0000
TZNAME:WET
DTSTART:20261025T010000
END:STANDARD
END:VTIMEZONE
BEGIN:VEVENT
DTSTART;VALUE=DATE:20241025
DTEND;VALUE=DATE:20250713
DTSTAMP:20260421T110901
CREATED:20241022T113922Z
LAST-MODIFIED:20241128T142903Z
UID:58178-1729814400-1752364799@www.cm-meda.pt
SUMMARY:Orfeão de Mêda
DESCRIPTION:  \n 
URL:https://www.cm-meda.pt/evento/orfeao-de-meda/
CATEGORIES:Atualidade,Música
ATTACH;FMTTYPE=image/jpeg:https://www.cm-meda.pt/wp-content/uploads/2024/10/orfeao_2024.jpg
END:VEVENT
BEGIN:VEVENT
DTSTART;VALUE=DATE:20241209
DTEND;VALUE=DATE:20241221
DTSTAMP:20260421T110901
CREATED:20241202T092555Z
LAST-MODIFIED:20241202T092710Z
UID:58640-1733702400-1734739199@www.cm-meda.pt
SUMMARY:Dê Troco a quem precisa
DESCRIPTION:
URL:https://www.cm-meda.pt/evento/de-troco-a-quem-precisa/
CATEGORIES:Ação Social,Atualidade,Saúde
ATTACH;FMTTYPE=image/jpeg:https://www.cm-meda.pt/wp-content/uploads/2024/12/468783846_1142478884550455_6048109664887163428_n.jpg
END:VEVENT
BEGIN:VEVENT
DTSTART;TZID=Europe/Lisbon:20241211T140000
DTEND;TZID=Europe/Lisbon:20241211T170000
DTSTAMP:20260421T110901
CREATED:20241122T175731Z
LAST-MODIFIED:20241204T121147Z
UID:58569-1733925600-1733936400@www.cm-meda.pt
SUMMARY:Festa de Natal dos Idosos do Concelho de Mêda
DESCRIPTION:
URL:https://www.cm-meda.pt/evento/mercado-da-terra-11-2-2-2/
LOCATION:Nave de Exposições do Mercado Municipal\, Ed. do Mercado Municipal\, Meda\, 6430\, Portugal
CATEGORIES:Ação Social,Atualidade
ATTACH;FMTTYPE=image/jpeg:https://www.cm-meda.pt/wp-content/uploads/2024/11/cartaz-festa-de-natal-idosos-2024.jpg
END:VEVENT
BEGIN:VEVENT
DTSTART;TZID=Europe/Lisbon:20241217T143000
DTEND;TZID=Europe/Lisbon:20241217T143000
DTSTAMP:20260421T110901
CREATED:20241216T120145Z
LAST-MODIFIED:20241216T121446Z
UID:58889-1734445800-1734445800@www.cm-meda.pt
SUMMARY:Concerto de Natal
DESCRIPTION:
URL:https://www.cm-meda.pt/evento/mercado-da-terra-11-2-2-2-2-2/
CATEGORIES:Atualidade,Música
ATTACH;FMTTYPE=image/jpeg:https://www.cm-meda.pt/wp-content/uploads/2024/12/Concerto-de-natal-copiar.jpg
END:VEVENT
BEGIN:VEVENT
DTSTART;VALUE=DATE:20241218
DTEND;VALUE=DATE:20241221
DTSTAMP:20260421T110901
CREATED:20241205T143421Z
LAST-MODIFIED:20241205T180520Z
UID:58675-1734480000-1734739199@www.cm-meda.pt
SUMMARY:Férias Desportivas de Natal
DESCRIPTION:
URL:https://www.cm-meda.pt/evento/ferias-desportivas-natal/
LOCATION:Complexo Desportivo Municipal\, Rua Trás do Campo\, Mêda\, 6430\, Portugal
CATEGORIES:Atualidade,Desporto
ATTACH;FMTTYPE=image/jpeg:https://www.cm-meda.pt/wp-content/uploads/2024/12/feriasdesportivasdonatal-copiar.jpg
END:VEVENT
BEGIN:VEVENT
DTSTART;TZID=Europe/Lisbon:20241227T203000
DTEND;TZID=Europe/Lisbon:20241227T203000
DTSTAMP:20260421T110901
CREATED:20241128T142640Z
LAST-MODIFIED:20241128T142640Z
UID:58629-1735331400-1735331400@www.cm-meda.pt
SUMMARY:Concerto de Ano Novo
DESCRIPTION:
URL:https://www.cm-meda.pt/evento/mercado-da-terra-11-2-2-2-2/
CATEGORIES:Atualidade,Música
ATTACH;FMTTYPE=image/jpeg:https://www.cm-meda.pt/wp-content/uploads/2024/11/Concerto-Ano-Novo-2024.jpg
END:VEVENT
END:VCALENDAR