BEGIN:VCALENDAR
VERSION:2.0
PRODID:-//Município de Mêda - ECPv6.15.20//NONSGML v1.0//EN
CALSCALE:GREGORIAN
METHOD:PUBLISH
X-WR-CALNAME:Município de Mêda
X-ORIGINAL-URL:https://www.cm-meda.pt
X-WR-CALDESC:Eventos para Município de Mêda
REFRESH-INTERVAL;VALUE=DURATION:PT1H
X-Robots-Tag:noindex
X-PUBLISHED-TTL:PT1H
BEGIN:VTIMEZONE
TZID:Europe/Lisbon
BEGIN:DAYLIGHT
TZOFFSETFROM:+0000
TZOFFSETTO:+0100
TZNAME:WEST
DTSTART:20240331T010000
END:DAYLIGHT
BEGIN:STANDARD
TZOFFSETFROM:+0100
TZOFFSETTO:+0000
TZNAME:WET
DTSTART:20241027T010000
END:STANDARD
BEGIN:DAYLIGHT
TZOFFSETFROM:+0000
TZOFFSETTO:+0100
TZNAME:WEST
DTSTART:20250330T010000
END:DAYLIGHT
BEGIN:STANDARD
TZOFFSETFROM:+0100
TZOFFSETTO:+0000
TZNAME:WET
DTSTART:20251026T010000
END:STANDARD
BEGIN:DAYLIGHT
TZOFFSETFROM:+0000
TZOFFSETTO:+0100
TZNAME:WEST
DTSTART:20260329T010000
END:DAYLIGHT
BEGIN:STANDARD
TZOFFSETFROM:+0100
TZOFFSETTO:+0000
TZNAME:WET
DTSTART:20261025T010000
END:STANDARD
BEGIN:DAYLIGHT
TZOFFSETFROM:+0000
TZOFFSETTO:+0100
TZNAME:WEST
DTSTART:20270328T010000
END:DAYLIGHT
BEGIN:STANDARD
TZOFFSETFROM:+0100
TZOFFSETTO:+0000
TZNAME:WET
DTSTART:20271031T010000
END:STANDARD
END:VTIMEZONE
BEGIN:VEVENT
DTSTART;VALUE=DATE:20251201
DTEND;VALUE=DATE:20260126
DTSTAMP:20260422T020725
CREATED:20241122T172116Z
LAST-MODIFIED:20260128T150209Z
UID:58560-1764547200-1769385599@www.cm-meda.pt
SUMMARY:Natal Real é no Comércio Tradicional - Montras de Natal 2025
DESCRIPTION:Natal Real é no Comércio Tradicional\n\nMontras de Natal\n1 de dezembro 2025 a 6 de janeiro de 2026 \nNormas Montras Natal 2025
URL:https://www.cm-meda.pt/evento/montrasnatal2025/
CATEGORIES:Ação de sensibilização
ATTACH;FMTTYPE=image/jpeg:https://www.cm-meda.pt/wp-content/uploads/2024/11/natalreal_montras-scaled.jpg
END:VEVENT
BEGIN:VEVENT
DTSTART;VALUE=DATE:20251201
DTEND;VALUE=DATE:20260126
DTSTAMP:20260422T020725
CREATED:20251128T171305Z
LAST-MODIFIED:20260128T150138Z
UID:63370-1764547200-1769385599@www.cm-meda.pt
SUMMARY:Natal Real é no Comércio Tradicional - Sorteio de Natal 2025
DESCRIPTION:Natal Real é no Comércio Tradicional\nSorteio de Natal\n01 de dezembro 2025 a 6 de janeiro de 2026 \nMais informações: \nNormas Sorteio de Natal 2025 \n  \n 
URL:https://www.cm-meda.pt/evento/sorteiodenatal2025/
CATEGORIES:Ação de sensibilização
ATTACH;FMTTYPE=image/jpeg:https://www.cm-meda.pt/wp-content/uploads/2025/11/natalreal_sorteio-scaled.jpg
END:VEVENT
END:VCALENDAR