BEGIN:VCALENDAR
VERSION:2.0
PRODID:-//Município de Mêda - ECPv6.15.20//NONSGML v1.0//EN
CALSCALE:GREGORIAN
METHOD:PUBLISH
X-WR-CALNAME:Município de Mêda
X-ORIGINAL-URL:https://www.cm-meda.pt
X-WR-CALDESC:Eventos para Município de Mêda
REFRESH-INTERVAL;VALUE=DURATION:PT1H
X-Robots-Tag:noindex
X-PUBLISHED-TTL:PT1H
BEGIN:VTIMEZONE
TZID:Europe/Lisbon
BEGIN:DAYLIGHT
TZOFFSETFROM:+0000
TZOFFSETTO:+0100
TZNAME:WEST
DTSTART:20240331T010000
END:DAYLIGHT
BEGIN:STANDARD
TZOFFSETFROM:+0100
TZOFFSETTO:+0000
TZNAME:WET
DTSTART:20241027T010000
END:STANDARD
BEGIN:DAYLIGHT
TZOFFSETFROM:+0000
TZOFFSETTO:+0100
TZNAME:WEST
DTSTART:20250330T010000
END:DAYLIGHT
BEGIN:STANDARD
TZOFFSETFROM:+0100
TZOFFSETTO:+0000
TZNAME:WET
DTSTART:20251026T010000
END:STANDARD
BEGIN:DAYLIGHT
TZOFFSETFROM:+0000
TZOFFSETTO:+0100
TZNAME:WEST
DTSTART:20260329T010000
END:DAYLIGHT
BEGIN:STANDARD
TZOFFSETFROM:+0100
TZOFFSETTO:+0000
TZNAME:WET
DTSTART:20261025T010000
END:STANDARD
END:VTIMEZONE
BEGIN:VEVENT
DTSTART;VALUE=DATE:20251031
DTEND;VALUE=DATE:20251101
DTSTAMP:20260421T223822
CREATED:20251008T142801Z
LAST-MODIFIED:20251008T142801Z
UID:62847-1761868800-1761955199@www.cm-meda.pt
SUMMARY:Batalha atrás de Batalha - M/16
DESCRIPTION:Género:  Ação \nAtores: Leonardo DiCaprio; Sean Penn\, Benicio Del Toro\, Regina All \nAno: 2025 \nDuração: 98 min \nSinopse: Quando o seu antigo inimigo ressurge após dezasseis anos\, um grupo de ex-revolucionários reúne-se para resgatar a filha de um dos seus. \n.
URL:https://www.cm-meda.pt/evento/batalha-atras-de-batalha/
LOCATION:Casa Municipal da Cultura\, Av Cidade Nova\, Mêda\, 6430-102\, Portugal
CATEGORIES:Cinema
ATTACH;FMTTYPE=image/jpeg:https://www.cm-meda.pt/wp-content/uploads/2025/10/cinema-outubro-redes-3-scaled.jpg
END:VEVENT
END:VCALENDAR