BEGIN:VCALENDAR
VERSION:2.0
PRODID:-//Município de Mêda - ECPv6.15.20//NONSGML v1.0//EN
CALSCALE:GREGORIAN
METHOD:PUBLISH
X-WR-CALNAME:Município de Mêda
X-ORIGINAL-URL:https://www.cm-meda.pt
X-WR-CALDESC:Eventos para Município de Mêda
REFRESH-INTERVAL;VALUE=DURATION:PT1H
X-Robots-Tag:noindex
X-PUBLISHED-TTL:PT1H
BEGIN:VTIMEZONE
TZID:Europe/Lisbon
BEGIN:DAYLIGHT
TZOFFSETFROM:+0000
TZOFFSETTO:+0100
TZNAME:WEST
DTSTART:20230326T010000
END:DAYLIGHT
BEGIN:STANDARD
TZOFFSETFROM:+0100
TZOFFSETTO:+0000
TZNAME:WET
DTSTART:20231029T010000
END:STANDARD
BEGIN:DAYLIGHT
TZOFFSETFROM:+0000
TZOFFSETTO:+0100
TZNAME:WEST
DTSTART:20240331T010000
END:DAYLIGHT
BEGIN:STANDARD
TZOFFSETFROM:+0100
TZOFFSETTO:+0000
TZNAME:WET
DTSTART:20241027T010000
END:STANDARD
BEGIN:DAYLIGHT
TZOFFSETFROM:+0000
TZOFFSETTO:+0100
TZNAME:WEST
DTSTART:20250330T010000
END:DAYLIGHT
BEGIN:STANDARD
TZOFFSETFROM:+0100
TZOFFSETTO:+0000
TZNAME:WET
DTSTART:20251026T010000
END:STANDARD
BEGIN:DAYLIGHT
TZOFFSETFROM:+0000
TZOFFSETTO:+0100
TZNAME:WEST
DTSTART:20260329T010000
END:DAYLIGHT
BEGIN:STANDARD
TZOFFSETFROM:+0100
TZOFFSETTO:+0000
TZNAME:WET
DTSTART:20261025T010000
END:STANDARD
END:VTIMEZONE
BEGIN:VEVENT
DTSTART;VALUE=DATE:20240910
DTEND;VALUE=DATE:20250609
DTSTAMP:20260419T181125
CREATED:20240910T154505Z
LAST-MODIFIED:20241031T121429Z
UID:57555-1725926400-1749427199@www.cm-meda.pt
SUMMARY:Piscina Municipal Coberta
DESCRIPTION:Piscina Municipal Coberta \n  \nUtilização livre: \nSegunda a sexta das 14h30 às 20h30 (mediante disponibilidade) \n  \nEscola de Natação: \nTerça a sexta das 14h30 às 20h30 \nAdaptação ao meio aquático \nAprendizagem e aperfeiçoamento técnico \n  \nAbertura da Piscina Coberta: 30 setembro de 2024 \nInício da Escola de Natação: 1 outubro de 2024 \n  \nMais informações: \nComplexo Desportivo Municipal: 279 883 412 | reservasdesporto@cm-meda.pt \n  \nFaça a sua inscrição!
URL:https://www.cm-meda.pt/evento/abertura-piscina-municipal-coberta/
LOCATION:Complexo Desportivo Municipal\, Rua Trás do Campo\, Mêda\, 6430\, Portugal
CATEGORIES:Desporto
ATTACH;FMTTYPE=image/jpeg:https://www.cm-meda.pt/wp-content/uploads/2024/09/piscina_natacao_2024_redes.jpg
END:VEVENT
BEGIN:VEVENT
DTSTART;VALUE=DATE:20240910
DTEND;VALUE=DATE:20250609
DTSTAMP:20260419T181125
CREATED:20241014T082401Z
LAST-MODIFIED:20241031T115454Z
UID:57911-1725926400-1749427199@www.cm-meda.pt
SUMMARY:Escola de Andebol
DESCRIPTION:Escola de Andebol\n\nSegunda-feira | 17h30 às 19h00\n\nDos 6 aos 9 anos\n\nEscalão: Manitas e Bambis\n\nNascidos: 2015 a 2018 | Masculinos e Femininos\n\n\n\n\nMais informações: \nComplexo Desportivo Municipal: 279 883 412 | reservasdesporto@cm-meda.pt
URL:https://www.cm-meda.pt/evento/abertura-piscina-municipal-coberta-2/
LOCATION:Complexo Desportivo Municipal\, Rua Trás do Campo\, Mêda\, 6430\, Portugal
CATEGORIES:Desporto
ATTACH;FMTTYPE=image/jpeg:https://www.cm-meda.pt/wp-content/uploads/2024/10/andebol_2024_redes.jpg
END:VEVENT
BEGIN:VEVENT
DTSTART;TZID=Europe/Lisbon:20241021T080000
DTEND;TZID=Europe/Lisbon:20250520T170000
DTSTAMP:20260419T181125
CREATED:20241021T084824Z
LAST-MODIFIED:20241202T121010Z
UID:58115-1729497600-1747760400@www.cm-meda.pt
SUMMARY:Aulas de Grupo
DESCRIPTION:Hidro – todas as segundas-feira às 19h30 \nStep – todas as sextas-feira às 18h30 \n  \nPara mais informação: \n279 883 412 \nreservasdesporto@cm-meda.pt
URL:https://www.cm-meda.pt/evento/aulasgrupo/
LOCATION:Complexo Desportivo Municipal\, Rua Trás do Campo\, Mêda\, 6430\, Portugal
CATEGORIES:Desporto
ATTACH;FMTTYPE=image/jpeg:https://www.cm-meda.pt/wp-content/uploads/2024/10/aulas_grupo.jpg
END:VEVENT
BEGIN:VEVENT
DTSTART;VALUE=DATE:20241025
DTEND;VALUE=DATE:20250713
DTSTAMP:20260419T181125
CREATED:20241022T113922Z
LAST-MODIFIED:20241128T142903Z
UID:58178-1729814400-1752364799@www.cm-meda.pt
SUMMARY:Orfeão de Mêda
DESCRIPTION:  \n 
URL:https://www.cm-meda.pt/evento/orfeao-de-meda/
CATEGORIES:Atualidade,Música
ATTACH;FMTTYPE=image/jpeg:https://www.cm-meda.pt/wp-content/uploads/2024/10/orfeao_2024.jpg
END:VEVENT
BEGIN:VEVENT
DTSTART;VALUE=DATE:20250430
DTEND;VALUE=DATE:20250526
DTSTAMP:20260419T181125
CREATED:20250430T134725Z
LAST-MODIFIED:20250430T163923Z
UID:60737-1745971200-1748217599@www.cm-meda.pt
SUMMARY:O Concelho da Mêda é um Jardim…
DESCRIPTION:O concelho de Mêda é um jardim… e queremos que floresça ainda mais! \nEstão abertas as inscrições para o concurso “Varandas\, Janelas e Portas Floridas”! \nParticipe e ajude-nos a transformar o nosso concelho num verdadeiro postal florido. \nDecore a sua varanda\, janela ou porta com flores e plantas\, partilhe a sua criatividade e contribua para um ambiente mais bonito e acolhedor. \nInscreva-se presencialmente no Edifício dos Paços do Concelho (serviço de expediente geral) no formulário que será disponibilizado para o efeito ou através do envio via email para o endereço: geral@cm-meda.pt até ao próximo dia 25 de maio de 2025. \nVamos juntos mostrar que o concelho de Mêda é um jardim! \nNormas de Participação “O concelho de Mêda é um Jardim” \nFicha Inscrição “O concelho de Mêda é um Jardim…”
URL:https://www.cm-meda.pt/evento/o-concelho-da-meda-e-um-jardim/
CATEGORIES:Atividade ao ar livre,Atualidade
ATTACH;FMTTYPE=image/jpeg:https://www.cm-meda.pt/wp-content/uploads/2025/04/MedaJardim_cartaz-scaled.jpg
END:VEVENT
BEGIN:VEVENT
DTSTART;VALUE=DATE:20250501
DTEND;VALUE=DATE:20250711
DTSTAMP:20260419T181125
CREATED:20250512T133902Z
LAST-MODIFIED:20250717T174923Z
UID:60829-1746057600-1752191999@www.cm-meda.pt
SUMMARY:Estágio de Verão 2025
DESCRIPTION:Normas de Funcionamento \nFormulário de Inscrição Online \n 
URL:https://www.cm-meda.pt/evento/marialva-medieval-2025-2/
CATEGORIES:Atualidade,Música
ATTACH;FMTTYPE=image/jpeg:https://www.cm-meda.pt/wp-content/uploads/2025/05/estagio-de-verao-2025-scaled.jpg
END:VEVENT
END:VCALENDAR