BEGIN:VCALENDAR
VERSION:2.0
PRODID:-//Município de Mêda - ECPv6.15.20//NONSGML v1.0//EN
CALSCALE:GREGORIAN
METHOD:PUBLISH
X-WR-CALNAME:Município de Mêda
X-ORIGINAL-URL:https://www.cm-meda.pt
X-WR-CALDESC:Eventos para Município de Mêda
REFRESH-INTERVAL;VALUE=DURATION:PT1H
X-Robots-Tag:noindex
X-PUBLISHED-TTL:PT1H
BEGIN:VTIMEZONE
TZID:Europe/Lisbon
BEGIN:DAYLIGHT
TZOFFSETFROM:+0000
TZOFFSETTO:+0100
TZNAME:WEST
DTSTART:20230326T010000
END:DAYLIGHT
BEGIN:STANDARD
TZOFFSETFROM:+0100
TZOFFSETTO:+0000
TZNAME:WET
DTSTART:20231029T010000
END:STANDARD
BEGIN:DAYLIGHT
TZOFFSETFROM:+0000
TZOFFSETTO:+0100
TZNAME:WEST
DTSTART:20240331T010000
END:DAYLIGHT
BEGIN:STANDARD
TZOFFSETFROM:+0100
TZOFFSETTO:+0000
TZNAME:WET
DTSTART:20241027T010000
END:STANDARD
BEGIN:DAYLIGHT
TZOFFSETFROM:+0000
TZOFFSETTO:+0100
TZNAME:WEST
DTSTART:20250330T010000
END:DAYLIGHT
BEGIN:STANDARD
TZOFFSETFROM:+0100
TZOFFSETTO:+0000
TZNAME:WET
DTSTART:20251026T010000
END:STANDARD
END:VTIMEZONE
BEGIN:VEVENT
DTSTART;VALUE=DATE:20240901
DTEND;VALUE=DATE:20241101
DTSTAMP:20260421T110204
CREATED:20240917T081724Z
LAST-MODIFIED:20240925T162028Z
UID:57587-1725148800-1730419199@www.cm-meda.pt
SUMMARY:Programa Rede Solidária de Medicamentos (ABEM)
DESCRIPTION:O Município de Mêda\, através da assinatura do Protocolo com a Associação Dignitude\, formalizou a adesão ao Programa abem: Rede Solidária do Medicamento. A integração na Rede Solidária do Medicamento permite que os munícipes\, em situação de fragilidade e/ou carência económica\, possam ter acesso gratuito a medicamentos essenciais\, prescritos por receita médica\, com total anonimato e dignidade.\nOs cidadãos que estiverem interessados a aceder ao programa devem entregar\, presencialmente no Gabinete de Ação Social do Município ou por e-mail (geral@cm-meda.pt)\, o formulário devidamente preenchido\, que está disponível em: formulario_abem_meda.pdf (cm-meda.pt)\nPara qualquer esclarecimento adicional poderá contactar o Gabinete de Ação Social do Município\, através do telefone 279 880040 ou do e-mail acaosocial@cm-meda.pt.
URL:https://www.cm-meda.pt/evento/abem/
CATEGORIES:Saúde
ATTACH;FMTTYPE=image/jpeg:https://www.cm-meda.pt/wp-content/uploads/2024/09/447292539_995928402538838_1265850662673055089_n.jpg
END:VEVENT
END:VCALENDAR