BEGIN:VCALENDAR
VERSION:2.0
PRODID:-//Município de Mêda - ECPv6.15.20//NONSGML v1.0//EN
CALSCALE:GREGORIAN
METHOD:PUBLISH
X-WR-CALNAME:Município de Mêda
X-ORIGINAL-URL:https://www.cm-meda.pt
X-WR-CALDESC:Eventos para Município de Mêda
REFRESH-INTERVAL;VALUE=DURATION:PT1H
X-Robots-Tag:noindex
X-PUBLISHED-TTL:PT1H
BEGIN:VTIMEZONE
TZID:Europe/Lisbon
BEGIN:DAYLIGHT
TZOFFSETFROM:+0000
TZOFFSETTO:+0100
TZNAME:WEST
DTSTART:20220327T010000
END:DAYLIGHT
BEGIN:STANDARD
TZOFFSETFROM:+0100
TZOFFSETTO:+0000
TZNAME:WET
DTSTART:20221030T010000
END:STANDARD
BEGIN:DAYLIGHT
TZOFFSETFROM:+0000
TZOFFSETTO:+0100
TZNAME:WEST
DTSTART:20230326T010000
END:DAYLIGHT
BEGIN:STANDARD
TZOFFSETFROM:+0100
TZOFFSETTO:+0000
TZNAME:WET
DTSTART:20231029T010000
END:STANDARD
BEGIN:DAYLIGHT
TZOFFSETFROM:+0000
TZOFFSETTO:+0100
TZNAME:WEST
DTSTART:20240331T010000
END:DAYLIGHT
BEGIN:STANDARD
TZOFFSETFROM:+0100
TZOFFSETTO:+0000
TZNAME:WET
DTSTART:20241027T010000
END:STANDARD
BEGIN:DAYLIGHT
TZOFFSETFROM:+0000
TZOFFSETTO:+0100
TZNAME:WEST
DTSTART:20250330T010000
END:DAYLIGHT
BEGIN:STANDARD
TZOFFSETFROM:+0100
TZOFFSETTO:+0000
TZNAME:WET
DTSTART:20251026T010000
END:STANDARD
END:VTIMEZONE
BEGIN:VEVENT
DTSTART;TZID=Europe/Lisbon:20231001T080000
DTEND;TZID=Europe/Lisbon:20240630T170000
DTSTAMP:20260421T145911
CREATED:20230927T111921Z
LAST-MODIFIED:20240322T165526Z
UID:51945-1696147200-1719766800@www.cm-meda.pt
SUMMARY:Diabetes em Movimento
DESCRIPTION:  \n 
URL:https://www.cm-meda.pt/evento/diabetes-em-movimento/
LOCATION:Complexo Desportivo Municipal\, Rua Trás do Campo\, Mêda\, 6430\, Portugal
CATEGORIES:Atualidade,Desporto
ATTACH;FMTTYPE=image/jpeg:https://www.cm-meda.pt/wp-content/uploads/2023/09/Cartaz-Diabetes-em-Movimento-MEDA-2023-2024-v1.1.jpg
END:VEVENT
BEGIN:VEVENT
DTSTART;VALUE=DATE:20231016
DTEND;VALUE=DATE:20240601
DTSTAMP:20260421T145911
CREATED:20231013T111603Z
LAST-MODIFIED:20240131T120704Z
UID:52099-1697414400-1717199999@www.cm-meda.pt
SUMMARY:Escola de Andebol
DESCRIPTION:  \n 
URL:https://www.cm-meda.pt/evento/escola-de-andebol-3/
LOCATION:Complexo Desportivo Municipal\, Rua Trás do Campo\, Mêda\, 6430\, Portugal
CATEGORIES:Desporto
ATTACH;FMTTYPE=image/png:https://www.cm-meda.pt/wp-content/uploads/2023/10/escola-de-andebol.png
END:VEVENT
BEGIN:VEVENT
DTSTART;TZID=Europe/Lisbon:20240531T213000
DTEND;TZID=Europe/Lisbon:20240531T213000
DTSTAMP:20260421T145911
CREATED:20240521T131008Z
LAST-MODIFIED:20240521T131026Z
UID:55281-1717191000-1717191000@www.cm-meda.pt
SUMMARY:Reino do Planeta dos Macacos
DESCRIPTION:Realizador: Wes Ball \nAtores: Owen Teague\, Freya Allan\, Kevin Durand\, Peter Macon e William H. Macy. \nPaís:  EUA \nAno: 2024 \nDuração (minutos): 145 \nSinopse: Em O REINO DO PLANETA DOS MACACOS\, da 20th Century Studios\, o realizador Wes Ball dá uma nova vida a esta franquia épica que se passa no futuro\, várias gerações após o reinado de César\, onde os macacos são a espécie dominante que vive harmoniosamente e os humanos foram reduzidos a viver nas sombras. À medida que um novo líder primata tirano constrói o seu império\, um jovem macaco inicia uma jornada angustiante que o levará a questionar tudo o que sabe sobre o passado e a fazer escolhas que irão definir o futuro dos macacos e dos humanos.
URL:https://www.cm-meda.pt/evento/reino-do-planeta-dos-macacos/
CATEGORIES:Cinema
ATTACH;FMTTYPE=image/jpeg:https://www.cm-meda.pt/wp-content/uploads/2024/05/planeta-dos-macacos.jpg
END:VEVENT
END:VCALENDAR